BEGIN:VCALENDAR
VERSION:2.0
PRODID:-//Anglerverein Hofgeismar - ECPv6.15.20//NONSGML v1.0//EN
CALSCALE:GREGORIAN
METHOD:PUBLISH
X-ORIGINAL-URL:https://anglerverein-hofgeismar.de
X-WR-CALDESC:Veranstaltungen für Anglerverein Hofgeismar
REFRESH-INTERVAL;VALUE=DURATION:PT1H
X-Robots-Tag:noindex
X-PUBLISHED-TTL:PT1H
BEGIN:VTIMEZONE
TZID:Europe/Berlin
BEGIN:DAYLIGHT
TZOFFSETFROM:+0100
TZOFFSETTO:+0200
TZNAME:CEST
DTSTART:20230326T010000
END:DAYLIGHT
BEGIN:STANDARD
TZOFFSETFROM:+0200
TZOFFSETTO:+0100
TZNAME:CET
DTSTART:20231029T010000
END:STANDARD
BEGIN:DAYLIGHT
TZOFFSETFROM:+0100
TZOFFSETTO:+0200
TZNAME:CEST
DTSTART:20240331T010000
END:DAYLIGHT
BEGIN:STANDARD
TZOFFSETFROM:+0200
TZOFFSETTO:+0100
TZNAME:CET
DTSTART:20241027T010000
END:STANDARD
BEGIN:DAYLIGHT
TZOFFSETFROM:+0100
TZOFFSETTO:+0200
TZNAME:CEST
DTSTART:20250330T010000
END:DAYLIGHT
BEGIN:STANDARD
TZOFFSETFROM:+0200
TZOFFSETTO:+0100
TZNAME:CET
DTSTART:20251026T010000
END:STANDARD
END:VTIMEZONE
BEGIN:VEVENT
DTSTART;TZID=Europe/Berlin:20240408T200000
DTEND;TZID=Europe/Berlin:20240408T210000
DTSTAMP:20260426T051628
CREATED:20240201T093853Z
LAST-MODIFIED:20240201T093853Z
UID:741-1712606400-1712610000@anglerverein-hofgeismar.de
SUMMARY:Monats Versammlung April
DESCRIPTION:Ich hoffe auf viele !
URL:https://anglerverein-hofgeismar.de/event/monats-versammlung-april/
LOCATION:Zum Alten Brauhaus\, Marktstr.12\, Hofgeismar\, Hessen\, 34369\, Deutschland
END:VEVENT
BEGIN:VEVENT
DTSTART;TZID=Europe/Berlin:20240420T140000
DTEND;TZID=Europe/Berlin:20240420T180000
DTSTAMP:20260426T051628
CREATED:20240201T094046Z
LAST-MODIFIED:20240201T094046Z
UID:743-1713621600-1713636000@anglerverein-hofgeismar.de
SUMMARY:Freundschaftsangeln
DESCRIPTION:Mit anderen Vereinen etwas angeln und dann Erfahrungsaustausch !
URL:https://anglerverein-hofgeismar.de/event/freundschaftsangeln-2/
LOCATION:Essehütte Am Klärwerk 1
END:VEVENT
BEGIN:VEVENT
DTSTART;TZID=Europe/Berlin:20240427T100000
DTEND;TZID=Europe/Berlin:20240427T170000
DTSTAMP:20260426T051628
CREATED:20240201T094208Z
LAST-MODIFIED:20240201T094208Z
UID:746-1714212000-1714237200@anglerverein-hofgeismar.de
SUMMARY:Senioren-Angeln ? ? ?
DESCRIPTION:
URL:https://anglerverein-hofgeismar.de/event/senioren-angeln/
LOCATION:Vereinsheim Ebeschütz\, 51°32'14.7"N 9°21'16.0"E\, Deutschland
END:VEVENT
END:VCALENDAR