BEGIN:VCALENDAR
VERSION:2.0
PRODID:-//Anglerverein Hofgeismar - ECPv6.15.20//NONSGML v1.0//EN
CALSCALE:GREGORIAN
METHOD:PUBLISH
X-ORIGINAL-URL:https://anglerverein-hofgeismar.de
X-WR-CALDESC:Veranstaltungen für Anglerverein Hofgeismar
REFRESH-INTERVAL;VALUE=DURATION:PT1H
X-Robots-Tag:noindex
X-PUBLISHED-TTL:PT1H
BEGIN:VTIMEZONE
TZID:Europe/Berlin
BEGIN:DAYLIGHT
TZOFFSETFROM:+0100
TZOFFSETTO:+0200
TZNAME:CEST
DTSTART:20230326T010000
END:DAYLIGHT
BEGIN:STANDARD
TZOFFSETFROM:+0200
TZOFFSETTO:+0100
TZNAME:CET
DTSTART:20231029T010000
END:STANDARD
BEGIN:DAYLIGHT
TZOFFSETFROM:+0100
TZOFFSETTO:+0200
TZNAME:CEST
DTSTART:20240331T010000
END:DAYLIGHT
BEGIN:STANDARD
TZOFFSETFROM:+0200
TZOFFSETTO:+0100
TZNAME:CET
DTSTART:20241027T010000
END:STANDARD
BEGIN:DAYLIGHT
TZOFFSETFROM:+0100
TZOFFSETTO:+0200
TZNAME:CEST
DTSTART:20250330T010000
END:DAYLIGHT
BEGIN:STANDARD
TZOFFSETFROM:+0200
TZOFFSETTO:+0100
TZNAME:CET
DTSTART:20251026T010000
END:STANDARD
END:VTIMEZONE
BEGIN:VEVENT
DTSTART;TZID=Europe/Berlin:20240330T133000
DTEND;TZID=Europe/Berlin:20240330T143000
DTSTAMP:20260426T033911
CREATED:20240201T093728Z
LAST-MODIFIED:20240201T093728Z
UID:739-1711805400-1711809000@anglerverein-hofgeismar.de
SUMMARY:Angel Scheine  für 2024
DESCRIPTION:Am Ostersamstag gibt es die Angelscheine!
URL:https://anglerverein-hofgeismar.de/event/angel-scheine-fuer-2024/
LOCATION:Essehütte Am Klärwerk 1
END:VEVENT
END:VCALENDAR