BEGIN:VCALENDAR
VERSION:2.0
PRODID:-//Anglerverein Hofgeismar - ECPv6.15.20//NONSGML v1.0//EN
CALSCALE:GREGORIAN
METHOD:PUBLISH
X-ORIGINAL-URL:https://anglerverein-hofgeismar.de
X-WR-CALDESC:Veranstaltungen für Anglerverein Hofgeismar
REFRESH-INTERVAL;VALUE=DURATION:PT1H
X-Robots-Tag:noindex
X-PUBLISHED-TTL:PT1H
BEGIN:VTIMEZONE
TZID:Europe/Berlin
BEGIN:DAYLIGHT
TZOFFSETFROM:+0100
TZOFFSETTO:+0200
TZNAME:CEST
DTSTART:20220327T010000
END:DAYLIGHT
BEGIN:STANDARD
TZOFFSETFROM:+0200
TZOFFSETTO:+0100
TZNAME:CET
DTSTART:20221030T010000
END:STANDARD
BEGIN:DAYLIGHT
TZOFFSETFROM:+0100
TZOFFSETTO:+0200
TZNAME:CEST
DTSTART:20230326T010000
END:DAYLIGHT
BEGIN:STANDARD
TZOFFSETFROM:+0200
TZOFFSETTO:+0100
TZNAME:CET
DTSTART:20231029T010000
END:STANDARD
BEGIN:DAYLIGHT
TZOFFSETFROM:+0100
TZOFFSETTO:+0200
TZNAME:CEST
DTSTART:20240331T010000
END:DAYLIGHT
BEGIN:STANDARD
TZOFFSETFROM:+0200
TZOFFSETTO:+0100
TZNAME:CET
DTSTART:20241027T010000
END:STANDARD
END:VTIMEZONE
BEGIN:VEVENT
DTSTART;TZID=Europe/Berlin:20230807T190000
DTEND;TZID=Europe/Berlin:20230807T210000
DTSTAMP:20260425T153128
CREATED:20221118T100411Z
LAST-MODIFIED:20221118T100411Z
UID:667-1691434800-1691442000@anglerverein-hofgeismar.de
SUMMARY:Sommer "Hüttentreffen Klönabend)
DESCRIPTION:
URL:https://anglerverein-hofgeismar.de/event/sommer-huettentreffen-kloenabend-2/
LOCATION:Essehütte Am Klärwerk 1
END:VEVENT
END:VCALENDAR