BEGIN:VCALENDAR
VERSION:2.0
PRODID:-//Anglerverein Hofgeismar - ECPv6.15.20//NONSGML v1.0//EN
CALSCALE:GREGORIAN
METHOD:PUBLISH
X-ORIGINAL-URL:https://anglerverein-hofgeismar.de
X-WR-CALDESC:Veranstaltungen für Anglerverein Hofgeismar
REFRESH-INTERVAL;VALUE=DURATION:PT1H
X-Robots-Tag:noindex
X-PUBLISHED-TTL:PT1H
BEGIN:VTIMEZONE
TZID:Europe/Berlin
BEGIN:DAYLIGHT
TZOFFSETFROM:+0100
TZOFFSETTO:+0200
TZNAME:CEST
DTSTART:20210328T010000
END:DAYLIGHT
BEGIN:STANDARD
TZOFFSETFROM:+0200
TZOFFSETTO:+0100
TZNAME:CET
DTSTART:20211031T010000
END:STANDARD
BEGIN:DAYLIGHT
TZOFFSETFROM:+0100
TZOFFSETTO:+0200
TZNAME:CEST
DTSTART:20220327T010000
END:DAYLIGHT
BEGIN:STANDARD
TZOFFSETFROM:+0200
TZOFFSETTO:+0100
TZNAME:CET
DTSTART:20221030T010000
END:STANDARD
BEGIN:DAYLIGHT
TZOFFSETFROM:+0100
TZOFFSETTO:+0200
TZNAME:CEST
DTSTART:20230326T010000
END:DAYLIGHT
BEGIN:STANDARD
TZOFFSETFROM:+0200
TZOFFSETTO:+0100
TZNAME:CET
DTSTART:20231029T010000
END:STANDARD
END:VTIMEZONE
BEGIN:VEVENT
DTSTART;TZID=Europe/Berlin:20220905T200000
DTEND;TZID=Europe/Berlin:20220905T210000
DTSTAMP:20260424T190908
CREATED:20211228T151915Z
LAST-MODIFIED:20220807T103030Z
UID:543-1662408000-1662411600@anglerverein-hofgeismar.de
SUMMARY:Monatsversammlung
DESCRIPTION:Die Gewässerwunschliste für 2023 ist leer !!!
URL:https://anglerverein-hofgeismar.de/event/monatsversammlung-2/
LOCATION:Zum Alten Brauhaus\, Marktstr.12\, Hofgeismar\, Hessen\, 34369\, Deutschland
END:VEVENT
BEGIN:VEVENT
DTSTART;TZID=Europe/Berlin:20220910T080000
DTEND;TZID=Europe/Berlin:20220910T170000
DTSTAMP:20260424T190908
CREATED:20211228T152036Z
LAST-MODIFIED:20220807T102306Z
UID:545-1662796800-1662829200@anglerverein-hofgeismar.de
SUMMARY:Freundschaftsangeln  fält leider aus !
DESCRIPTION:
URL:https://anglerverein-hofgeismar.de/event/freundschaftsangeln/
END:VEVENT
END:VCALENDAR