BEGIN:VCALENDAR
VERSION:2.0
PRODID:-//Anglerverein Hofgeismar - ECPv6.15.20//NONSGML v1.0//EN
CALSCALE:GREGORIAN
METHOD:PUBLISH
X-WR-CALNAME:Anglerverein Hofgeismar
X-ORIGINAL-URL:https://anglerverein-hofgeismar.de
X-WR-CALDESC:Veranstaltungen für Anglerverein Hofgeismar
REFRESH-INTERVAL;VALUE=DURATION:PT1H
X-Robots-Tag:noindex
X-PUBLISHED-TTL:PT1H
BEGIN:VTIMEZONE
TZID:Europe/Berlin
BEGIN:DAYLIGHT
TZOFFSETFROM:+0100
TZOFFSETTO:+0200
TZNAME:CEST
DTSTART:20190331T010000
END:DAYLIGHT
BEGIN:STANDARD
TZOFFSETFROM:+0200
TZOFFSETTO:+0100
TZNAME:CET
DTSTART:20191027T010000
END:STANDARD
BEGIN:DAYLIGHT
TZOFFSETFROM:+0100
TZOFFSETTO:+0200
TZNAME:CEST
DTSTART:20200329T010000
END:DAYLIGHT
BEGIN:STANDARD
TZOFFSETFROM:+0200
TZOFFSETTO:+0100
TZNAME:CET
DTSTART:20201025T010000
END:STANDARD
BEGIN:DAYLIGHT
TZOFFSETFROM:+0100
TZOFFSETTO:+0200
TZNAME:CEST
DTSTART:20210328T010000
END:DAYLIGHT
BEGIN:STANDARD
TZOFFSETFROM:+0200
TZOFFSETTO:+0100
TZNAME:CET
DTSTART:20211031T010000
END:STANDARD
END:VTIMEZONE
BEGIN:VEVENT
DTSTART;TZID=Europe/Berlin:20200906T080000
DTEND;TZID=Europe/Berlin:20200906T110000
DTSTAMP:20260423T103609
CREATED:20200819T082659Z
LAST-MODIFIED:20200819T083124Z
UID:438-1599379200-1599390000@anglerverein-hofgeismar.de
SUMMARY:Hombressen  "abgesagt"
DESCRIPTION:Das Angeln für 2020 ist abgesagt !!
URL:https://anglerverein-hofgeismar.de/event/traditionsangeln-hombressen/
END:VEVENT
END:VCALENDAR